BEGIN:VCALENDAR
VERSION:2.0
PRODID:-//wp-events-plugin.com//7.2.3.1//EN
TZID:Europe/Berlin
X-WR-TIMEZONE:Europe/Berlin
BEGIN:VEVENT
UID:0-16@spd-spandau.de
DTSTART;TZID=Europe/Berlin:20260421T190000
DTEND;TZID=Europe/Berlin:20260421T210000
DTSTAMP:20260415T085836Z
URL:https://spd-spandau.de/termin/offenen-diskussionsveranstaltung-leben-u
 m-zu-arbeiten-was-ist-dran-an-der-debatte-zur-arbeitszeit/
SUMMARY:Offenen Diskussionsveranstaltung - Leben um zu arbeiten? - Was ist 
 dran an der Debatte zur Arbeitszeit?
DESCRIPTION:\nMan liest und hört gerade überall\, wir sollen mehr arbeite
 n.\n\n\n\nDoch was ist an dieser Aussage dran? Wieder zurück in die 50 St
 a/Woche oder gibt es andere\, für arbeitende Menschen\, bessere Lösungen
 \, als pauschale Aussagen?\n\n\n\nZu diesem Thema laden wir dich zur offen
 en Diskussionsveranstaltung mit Susan Javad\, von der Friedrich Ebert Stif
 tung und Sophie Jänicke\, Koordinatorin Tarifpolitik der IG Metall Berlin
 -Brandenburg-Sachsen\, ein.\n\n\n\nOrt: Mitteilung nach Anmeldung unter af
 aspandau@proton.me\n\n\n\n\nJetzt Anmelden\n\n\n\n\n\n\n\n\nEinladung_Flye
 rHerunterladen\n
CATEGORIES:AfA
END:VEVENT
BEGIN:VTIMEZONE
TZID:Europe/Berlin
X-LIC-LOCATION:Europe/Berlin
BEGIN:DAYLIGHT
DTSTART:20260329T030000
TZOFFSETFROM:+0100
TZOFFSETTO:+0200
TZNAME:CEST
END:DAYLIGHT
END:VTIMEZONE
END:VCALENDAR