BEGIN:VCALENDAR
VERSION:2.0
PRODID:-//wp-events-plugin.com//7.2.3.1//EN
TZID:Europe/Berlin
X-WR-TIMEZONE:Europe/Berlin
BEGIN:VEVENT
UID:0-11@spd-spandau.de
DTSTART;TZID=Europe/Berlin:20260502T100000
DTEND;TZID=Europe/Berlin:20260502T130000
DTSTAMP:20260414T125533Z
URL:https://spd-spandau.de/termin/zentraler-infostand-in-der-spandauer-alt
 stadt-2/
SUMMARY:Zentraler Infostand in der Spandauer Altstadt
DESCRIPTION:
LOCATION:Marktplatz in der Altstadt Spandau\, \, Deutschland
X-APPLE-STRUCTURED-LOCATION;VALUE=URI;X-ADDRESS=\, Deutschland;X-APPLE-RADI
 US=100;X-TITLE=Marktplatz in der Altstadt Spandau:geo:0,0
END:VEVENT
BEGIN:VTIMEZONE
TZID:Europe/Berlin
X-LIC-LOCATION:Europe/Berlin
BEGIN:DAYLIGHT
DTSTART:20260329T030000
TZOFFSETFROM:+0100
TZOFFSETTO:+0200
TZNAME:CEST
END:DAYLIGHT
END:VTIMEZONE
END:VCALENDAR